BEGIN:VCALENDAR
VERSION:2.0
PRODID:-//Te Pahu Community Website - ECPv4.7.1//NONSGML v1.0//EN
CALSCALE:GREGORIAN
METHOD:PUBLISH
X-WR-CALNAME:Te Pahu Community Website
X-ORIGINAL-URL:https://www.tepahu.co.nz
X-WR-CALDESC:Events for Te Pahu Community Website
BEGIN:VEVENT
DTSTART;VALUE=DATE:20180712
DTEND;VALUE=DATE:20200802
DTSTAMP:20181222T024951
CREATED:20180712T022041Z
LAST-MODIFIED:20180712T022041Z
UID:3424-1531353600-1596326399@www.tepahu.co.nz
SUMMARY:Te Pahu Facebook Events page
DESCRIPTION:Please go to facebook and “like” and “follow” the Te Pahu Community Events page to get notified of upcoming events. \n
URL:https://www.tepahu.co.nz/event/te-pahu-facebook-events-page/
END:VEVENT
END:VCALENDAR